BEGIN:VCALENDAR
VERSION:2.0
PRODID:-//Select Gallery - ECPv6.15.20//NONSGML v1.0//EN
CALSCALE:GREGORIAN
METHOD:PUBLISH
X-ORIGINAL-URL:https://selectgallery.art
X-WR-CALDESC:Events for Select Gallery
REFRESH-INTERVAL;VALUE=DURATION:PT1H
X-Robots-Tag:noindex
X-PUBLISHED-TTL:PT1H
BEGIN:VTIMEZONE
TZID:UTC
BEGIN:STANDARD
TZOFFSETFROM:+0000
TZOFFSETTO:+0000
TZNAME:UTC
DTSTART:20180101T000000
END:STANDARD
END:VTIMEZONE
BEGIN:VEVENT
DTSTART;TZID=UTC:20231011T180000
DTEND;TZID=UTC:20231015T170000
DTSTAMP:20260422T045617
CREATED:20231011T124807Z
LAST-MODIFIED:20240912T135729Z
UID:6132-1697047200-1697389200@selectgallery.art
SUMMARY:StART 2023
DESCRIPTION:We are delighted to be partaking in the 10th edition of StART Art Fair 11 – 15th October 2023. This year we shall be exhibiting three unique totally captivating artists. Sarah Fosse with her signature ’wobble’ and bold\, vibrant palette\, Jayson Lilley with a new collection of metropolis inspired city settings and Holly English with her her ongoing egg project utililising the very loaded symbol of an egg and transforming it into a fun\, decorative object\, punctuating the space around it and adding a gratifying pop of colour. For further information please email info@selectgallery.art
URL:https://selectgallery.art/exhibitions/start-2023/
LOCATION:Saatchi Gallery\, Kings Road\, London\, SW3 4RY\, United Kingdom
CATEGORIES:Events & Fairs
ATTACH;FMTTYPE=image/png:https://selectgallery.art/wp-content/uploads/2023/10/Untitled-design.png
END:VEVENT
BEGIN:VEVENT
DTSTART;VALUE=DATE:20230622
DTEND;VALUE=DATE:20230703
DTSTAMP:20260422T045617
CREATED:20230622T124328Z
LAST-MODIFIED:20240912T140614Z
UID:6125-1687392000-1688342399@selectgallery.art
SUMMARY:KCAW 2023
DESCRIPTION:We are delighted to be partaking in the 6th edition of Kensington and Chelsea Art Week 2023  from the 22nd June to 2nd July. \nThe borough of Kensington and Chelsea has an artistic heritage that encompasses some of the best and brightest creative names. From South Kensington’s Museum Quarter to the bustle of King’s Road; from the urban bohemia of Notting Hill to the modern elegance of the Design Museum\, a journey through Kensington and Chelsea is a journey through history. \nCome visit the gallery and enjoy a fabulous collection of contemporary artwork reflective of  the vibrant vibe of Notting Hill.
URL:https://selectgallery.art/exhibitions/kcaw-2023/
LOCATION:Select Gallery\, 3 Blenheim Crescent\, London\, W11 2EE\, United Kingdom
CATEGORIES:Events & Fairs
ATTACH;FMTTYPE=image/png:https://selectgallery.art/wp-content/uploads/2020/10/2.png
END:VEVENT
BEGIN:VEVENT
DTSTART;TZID=UTC:20230426T110000
DTEND;TZID=UTC:20230503T180000
DTSTAMP:20260422T045617
CREATED:20230426T124118Z
LAST-MODIFIED:20240912T140906Z
UID:6122-1682506800-1683136800@selectgallery.art
SUMMARY:House Of Dominic Denis
DESCRIPTION:Dominic Denis (b.1963) one of the original Young British Artists (YBA)\, is celebrating the selection and release\, by the Tate\, of his ‘Untitled 1992’ on card\, with this exhibition ‘House of Dominic Denis’. This stunning exhibition is inspired by Dominic’s work held in the Tate archives from his ‘exterior’ paintings which he first began back in 1992 when commissioned alongside 10 other artists to create the ‘London’ portfolio. The artists included Marc Quinn\, Rachel Whiteread\, Gavin Turk and Damien Hirst. \nThis series of work is truly stunning. Minimalist\, the balance of geometry and colour and the superbly naive touch of a flower pot or staircase creates an overall image of serenity and calm\, a sense of peace. \nClick here to view the catalogue to the exhibition. \n 
URL:https://selectgallery.art/exhibitions/house-of-dominic-denis/
LOCATION:Select Gallery\, 3 Blenheim Crescent\, London\, W11 2EE\, United Kingdom
CATEGORIES:Events & Fairs
ATTACH;FMTTYPE=image/png:https://selectgallery.art/wp-content/uploads/2024/06/Final-design-286x300-1-e1726150137267.png
END:VEVENT
BEGIN:VEVENT
DTSTART;TZID=UTC:20221019T180000
DTEND;TZID=UTC:20221026T190000
DTSTAMP:20260422T045617
CREATED:20221019T123021Z
LAST-MODIFIED:20240701T115122Z
UID:6116-1666202400-1666810800@selectgallery.art
SUMMARY:Fara Thomas
DESCRIPTION:We are delighted to be showcasing Fara Thomas’ FIRST ever UK solo exhibition ‘Bright Light City’ with the artist herself over from Las Vegas hosting the opening night. Come join us and and immerse yourself in a gallery transformed into a reflective world of mesmerising abstract colour and shapes. \nRSVP to join us on the opening night Wednesday 19th October 6-9pm
URL:https://selectgallery.art/exhibitions/fara-thomas/
LOCATION:Select Gallery\, 3 Blenheim Crescent\, London\, W11 2EE\, United Kingdom
CATEGORIES:Events & Fairs
ATTACH;FMTTYPE=image/png:https://selectgallery.art/wp-content/uploads/2024/06/Fara-T-Exhibition-Invite-300x214-1.png
END:VEVENT
BEGIN:VEVENT
DTSTART;TZID=UTC:20221012T180000
DTEND;TZID=UTC:20221016T170000
DTSTAMP:20260422T045617
CREATED:20221012T122807Z
LAST-MODIFIED:20240912T135821Z
UID:6113-1665597600-1665939600@selectgallery.art
SUMMARY:StART - October 2022
DESCRIPTION:We shall once again be exhibiting at StART Booth 8.5 this October at Saatchi Gallery\, Kings Road\, London. This year we shall be showcasing collections by three unique and mesmerising artists; Kate Verrion with her hyper-realist oils\, Amelia Coward with her collages and Jayson Lilley with his newest collections from his pound & monopoly series. \nWe simply can’t wait! For further details please email info@selectgallery.art
URL:https://selectgallery.art/exhibitions/start-october-2022/
LOCATION:Saatchi Gallery\, Kings Road\, London\, SW3 4RY\, United Kingdom
CATEGORIES:Events & Fairs
ATTACH;FMTTYPE=image/png:https://selectgallery.art/wp-content/uploads/2023/10/Untitled-design.png
END:VEVENT
BEGIN:VEVENT
DTSTART;TZID=UTC:20220623T100000
DTEND;TZID=UTC:20220703T160000
DTSTAMP:20260422T045617
CREATED:20220623T122510Z
LAST-MODIFIED:20240912T140636Z
UID:6110-1655978400-1656864000@selectgallery.art
SUMMARY:KCAW 2022
DESCRIPTION:We are delighted to be partaking in the fabulous Kensington + Chelsea Art Week once again!\n23 June – 03 July 2022\nThis year the theme of the art week is ‘Nourish’ and so who better to represent Select Gallery than the phenomenally talented hyperrealist artist Kate Verrion.
URL:https://selectgallery.art/exhibitions/kensington-chelsea-art-week-2022/
LOCATION:Select Gallery\, 3 Blenheim Crescent\, London\, W11 2EE\, United Kingdom
CATEGORIES:Events & Fairs
ATTACH;FMTTYPE=image/png:https://selectgallery.art/wp-content/uploads/2020/10/3.png
END:VEVENT
BEGIN:VEVENT
DTSTART;TZID=UTC:20220611T180000
DTEND;TZID=UTC:20240620T170000
DTSTAMP:20260422T045617
CREATED:20220611T122244Z
LAST-MODIFIED:20240701T115510Z
UID:6107-1654970400-1718902800@selectgallery.art
SUMMARY:The Pound Shop
DESCRIPTION:We are beyond thrilled to announce our forthcoming Jayson Lilley exhibition ‘The Pound Shop’. The gallery will be transformed with Lilley’s fabulously unique and playful collection appropriating original 1980’s one pound notes as his ‘canvas’\, stylising them with iconic structures from the metropolis. \nClick here to view the catalogue to Jayson’s new collection. 
URL:https://selectgallery.art/exhibitions/the-pound-shop/
LOCATION:Select Gallery\, 3 Blenheim Crescent\, London\, W11 2EE\, United Kingdom
CATEGORIES:Events & Fairs
ATTACH;FMTTYPE=image/png:https://selectgallery.art/wp-content/uploads/2024/06/Jayson-Lilley-design-copy-300x149-1.png
END:VEVENT
BEGIN:VEVENT
DTSTART;TZID=UTC:20211013T100000
DTEND;TZID=UTC:20211017T170000
DTSTAMP:20260422T045617
CREATED:20211013T120342Z
LAST-MODIFIED:20240912T135834Z
UID:6104-1634119200-1634490000@selectgallery.art
SUMMARY:START 2021
DESCRIPTION:We are thrilled to be exhibiting again at START art fair 2021 at Saatchi Gallery\, Kings Road\, London We shall be showcasing new collections by the fabulous Dominic Denis\, Mark Petty and Jayson Lilley.
URL:https://selectgallery.art/exhibitions/start-2021/
LOCATION:Saatchi Gallery\, Kings Road\, London\, SW3 4RY\, United Kingdom
CATEGORIES:Events & Fairs
ATTACH;FMTTYPE=image/png:https://selectgallery.art/wp-content/uploads/2023/10/Untitled-design.png
END:VEVENT
BEGIN:VEVENT
DTSTART;TZID=UTC:20210930T180000
DTEND;TZID=UTC:20211010T160000
DTSTAMP:20260422T045617
CREATED:20210930T115952Z
LAST-MODIFIED:20240701T115707Z
UID:6101-1633024800-1633881600@selectgallery.art
SUMMARY:Sarah Fosse: Moving Metropolis
DESCRIPTION: We’re thrilled to announce our FIRST solo-show post lockdown and featuring none other than the beloved Sarah Fosse.\nSarah has been busy working on a whole new body of work comprised of her signature style and we’re thrilled to be showing all new original artworks and limited edition prints on aluminium.\nPlease RSVP to info@selectgallery.art  we’ll be looking forward to seeing you there! \nThe exhibition continues through to Sunday 10th October 4pm. \n 
URL:https://selectgallery.art/exhibitions/sarah-fosse-moving-metropolis/
LOCATION:Select Gallery\, 3 Blenheim Crescent\, London\, W11 2EE\, United Kingdom
CATEGORIES:Events & Fairs
ATTACH;FMTTYPE=image/png:https://selectgallery.art/wp-content/uploads/2024/06/Moving-Metropolis-Final-216x300-1.png
END:VEVENT
BEGIN:VEVENT
DTSTART;TZID=UTC:20210624T110000
DTEND;TZID=UTC:20210704T160000
DTSTAMP:20260422T045617
CREATED:20210624T115627Z
LAST-MODIFIED:20240912T140727Z
UID:6099-1624532400-1625414400@selectgallery.art
SUMMARY:KCAW 2021
DESCRIPTION:We are delighted to be partaking once again in the Kensington + Chelsea Art Week 24 June – 4 July 2021. We will be displaying a fabulous collection of established and emerging artists reflective of this vibrant west London borough.
URL:https://selectgallery.art/exhibitions/kensington-chelsea-art-week-2021/
LOCATION:Select Gallery\, 3 Blenheim Crescent\, London\, W11 2EE\, United Kingdom
CATEGORIES:Events & Fairs
ATTACH;FMTTYPE=image/png:https://selectgallery.art/wp-content/uploads/2020/10/4.png
END:VEVENT
BEGIN:VEVENT
DTSTART;TZID=UTC:20201001T100000
DTEND;TZID=UTC:20201011T170000
DTSTAMP:20260422T045617
CREATED:20201001T114649Z
LAST-MODIFIED:20240912T140540Z
UID:6091-1601546400-1602435600@selectgallery.art
SUMMARY:Kensington + Chelsea Art Week 2020
DESCRIPTION:We are delighted to be partaking in the Kensington + Chelsea Art Week \n1 – 11 October 2020 \nWe have specially commissioned works  for the event on display and refreshments of the warm and bubbles kind for all visitors!
URL:https://selectgallery.art/exhibitions/kensington-chelsea-art-week/
LOCATION:Select Gallery\, 3 Blenheim Crescent\, London\, W11 2EE\, United Kingdom
CATEGORIES:Events & Fairs
ATTACH;FMTTYPE=image/png:https://selectgallery.art/wp-content/uploads/2020/10/2024.png
END:VEVENT
BEGIN:VEVENT
DTSTART;TZID=UTC:20191204T180000
DTEND;TZID=UTC:20191204T210000
DTSTAMP:20260422T045617
CREATED:20191204T113256Z
LAST-MODIFIED:20240701T121629Z
UID:6083-1575482400-1575493200@selectgallery.art
SUMMARY:A Picture Is Not Just For Christmas...
DESCRIPTION:Christmas Catalogue 2019 \nJoin us for an evening of festive cheer\, full of art stocking fillers\, great company and art! \nWednesday 4th December 6-9pm \nPlease RSVP
URL:https://selectgallery.art/exhibitions/a-picture-is-not-just-for-christmas/
LOCATION:Select Gallery\, 3 Blenheim Crescent\, London\, W11 2EE\, United Kingdom
CATEGORIES:Events & Fairs
END:VEVENT
BEGIN:VEVENT
DTSTART;TZID=UTC:20191010T180000
DTEND;TZID=UTC:20191010T180000
DTSTAMP:20260422T045617
CREATED:20191010T111150Z
LAST-MODIFIED:20240701T121726Z
UID:6067-1570730400-1570730400@selectgallery.art
SUMMARY:Opening Event
DESCRIPTION:Select Gallery’s Official Opening Reception\nThursday 10th October 6-9pm\nPlease contact the gallery for further information strictly RSVP admission
URL:https://selectgallery.art/exhibitions/opening-event/
LOCATION:Select Gallery\, 3 Blenheim Crescent\, London\, W11 2EE\, United Kingdom
CATEGORIES:Events & Fairs
END:VEVENT
END:VCALENDAR